
BEGIN:VCALENDAR
PRODID:-//Mozilla.org/NONSGML Mozilla Calendar V1.1//EN
VERSION:2.0
BEGIN:VTIMEZONE
TZID:Europe/Berlin
X-LIC-LOCATION:Europe/Berlin
BEGIN:DAYLIGHT
TZOFFSETFROM:+0100
TZOFFSETTO:+0200
TZNAME:CEST
DTSTART:19700329T020000
RRULE:FREQ=YEARLY;BYDAY=-1SU;BYMONTH=3
END:DAYLIGHT
BEGIN:STANDARD
TZOFFSETFROM:+0200
TZOFFSETTO:+0100
TZNAME:CET
DTSTART:19701025T030000
RRULE:FREQ=YEARLY;BYDAY=-1SU;BYMONTH=10
END:STANDARD
END:VTIMEZONE

BEGIN:VEVENT
CREATED:20240707T000000Z
LAST-MODIFIED:20260202T000000Z
UID:event-387@saarfuchs.com
SUMMARY:B L O C K B U S T E R  -  S A L Z B U R G
DTSTART;VALUE=DATE:20250518
DTEND;VALUE=DATE:20250519
DESCRIPTION:https://www.saarfuchs.com/event/2025/b-l-o-c-k-b-u-s-t-e-r-s-a-l-z-b-u-r-g
LOCATION:Fürstenweg, Salzburg, Salzburg, Österreich
END:VEVENT


END:VCALENDAR

