
BEGIN:VCALENDAR
PRODID:-//Mozilla.org/NONSGML Mozilla Calendar V1.1//EN
VERSION:2.0
BEGIN:VTIMEZONE
TZID:Europe/Berlin
X-LIC-LOCATION:Europe/Berlin
BEGIN:DAYLIGHT
TZOFFSETFROM:+0100
TZOFFSETTO:+0200
TZNAME:CEST
DTSTART:19700329T020000
RRULE:FREQ=YEARLY;BYDAY=-1SU;BYMONTH=3
END:DAYLIGHT
BEGIN:STANDARD
TZOFFSETFROM:+0200
TZOFFSETTO:+0100
TZNAME:CET
DTSTART:19701025T030000
RRULE:FREQ=YEARLY;BYDAY=-1SU;BYMONTH=10
END:STANDARD
END:VTIMEZONE

BEGIN:VEVENT
CREATED:20240614T000000Z
LAST-MODIFIED:20260326T000000Z
UID:event-382@saarfuchs.com
SUMMARY:GeoWallons fête les 25 ans de Signal
DTSTART;VALUE=DATE:20250614
DTEND;VALUE=DATE:20250615
DESCRIPTION:https://www.saarfuchs.com/event/2025/geowallons-fete-les-25-ans-de-signal
LOCATION:Rue du Werchai, Court-Saint-Étienne, Nivelles, Brabant wallon, Belgien
END:VEVENT


END:VCALENDAR

