
BEGIN:VCALENDAR
PRODID:-//Mozilla.org/NONSGML Mozilla Calendar V1.1//EN
VERSION:2.0
BEGIN:VTIMEZONE
TZID:Europe/Berlin
X-LIC-LOCATION:Europe/Berlin
BEGIN:DAYLIGHT
TZOFFSETFROM:+0100
TZOFFSETTO:+0200
TZNAME:CEST
DTSTART:19700329T020000
RRULE:FREQ=YEARLY;BYDAY=-1SU;BYMONTH=3
END:DAYLIGHT
BEGIN:STANDARD
TZOFFSETFROM:+0200
TZOFFSETTO:+0100
TZNAME:CET
DTSTART:19701025T030000
RRULE:FREQ=YEARLY;BYDAY=-1SU;BYMONTH=10
END:STANDARD
END:VTIMEZONE

BEGIN:VEVENT
CREATED:20170820T000000Z
LAST-MODIFIED:20260326T000000Z
UID:event-118@saarfuchs.com
SUMMARY:MEGA-Phone 📢 VII
DTSTART;VALUE=DATE:20180721
DTEND;VALUE=DATE:20180722
DESCRIPTION:https://www.saarfuchs.com/event/2018/megaphone-vii
LOCATION:K 1174, Angern, Elbe-Heide, Sachsen-Anhalt, Deutschland
END:VEVENT


END:VCALENDAR

